BEGIN:VCALENDAR
PRODID:-//Liferay Inc//Liferay Portal 6.1.20//EN
VERSION:2.0
CALSCALE:GREGORIAN
METHOD:PUBLISH
BEGIN:VEVENT
DTSTAMP:20170112T221013Z
UID:fb551bcd-11e7-47f7-b811-e22928009501
DTSTART:20170117T180000Z
DTEND:20170117T190000Z
SUMMARY:XSEDE ECSS Symposium
DESCRIPTION:<p>\n	Extended Collaborative Support program provides expert as
 sistance in a wide range of cyberinfastructure technologies. Any user may 
 request this assistance through the XSEDE allocation process. The primary 
 goal of this monthly symposium is to allow the over 70 staff members worki
 ng in ECSS to exchange information about successful techniques used to add
 ress challenging science problems. Tutorials on new technologies may also 
 be featured. Two 30-minute\, technically-focused talks will be presented e
 ach month and will include a brief question and answer period. This series
  is open to all. Symposium coordinates: Third Tuesday of the month\, pendi
 ng scheduling conflicts. Upcoming events will be listed on the website and
  announcements posted to the News Training category. 1pm Eastern/12pm Cent
 ral/10am Pacific These sessions will be recorded. For this large webinar\,
  only the presenters and host will be broadcasting audio. Attendees may su
 bmit questions to the presenters through a moderator by sending a chat mes
 sage.</p>\n<p>\n	<a href="https://www.xsede.org/ecss-symposium">ECSS webpa
 ge</a></p>
LOCATION:Join from PC\, Mac\, Linux\, iOS or Android: https://zoom.us/j/350
 667546\n \nOr iPhone one-tap (US Toll):  +14086380968\,350667546# or +1646
 5588656\,350667546#\n \nOr Telephone:\n    Dial: +1 408 638 0968 (US Toll)
  or +1 646 558 8656 (US Toll)\n    Meeting ID: 350 667 546\n    Internatio
 nal numbers available: https://zoom.us/zoomconference?m=4t505OnHv36W845OhV
 Q8SlxRAP07A-_n
COMMENT:event
RRULE:FREQ=MONTHLY;INTERVAL=1;BYDAY=TU;BYSETPOS=3
END:VEVENT
END:VCALENDAR
